Package: xCell2 Version: 1.2.0 Command: /Library/Frameworks/R.framework/Resources/bin/R CMD check --install=check:xCell2.install-out.txt --library=/Library/Frameworks/R.framework/Resources/library --no-vignettes --timings xCell2_1.2.0.tar.gz StartedAt: 2025-11-10 23:02:02 -0500 (Mon, 10 Nov 2025) EndedAt: 2025-11-10 23:04:45 -0500 (Mon, 10 Nov 2025) EllapsedTime: 162.5 seconds RetCode: 0 Status: OK CheckDir: xCell2.Rcheck Warnings: 0