Package: xCell2 Version: 1.2.0 Maintainer: Almog Angel MaintainerEmail: almog.angel at campus.technion.ac.il git_url: https://git.bioconductor.org/packages/xCell2 git_branch: RELEASE_3_22 git_last_commit: d42142a git_last_commit_date: 2025-10-29 11:33:51 -0500 (Wed, 29 Oct 2025)