Package: wppi Version: 1.17.0 Command: /home/biocbuild/R/R/bin/R CMD check --install=check:wppi.install-out.txt --library=/home/biocbuild/R/R/site-library --no-vignettes --timings wppi_1.17.0.tar.gz StartedAt: 2025-10-03 12:50:39 -0000 (Fri, 03 Oct 2025) EndedAt: 2025-10-03 13:00:05 -0000 (Fri, 03 Oct 2025) EllapsedTime: 566.0 seconds RetCode: 0 Status: OK CheckDir: wppi.Rcheck Warnings: 0