Package: wppi Version: 1.17.0 Command: /home/biocbuild/R/R/bin/R CMD build --keep-empty-dirs --no-resave-data wppi StartedAt: 2025-10-03 04:13:02 -0000 (Fri, 03 Oct 2025) EndedAt: 2025-10-03 04:17:02 -0000 (Fri, 03 Oct 2025) EllapsedTime: 239.1 seconds RetCode: 0 Status: OK PackageFile: wppi_1.17.0.tar.gz PackageFileSize: 677.1 KiB