Package: wppi Version: 1.17.0 Command: rm -rf wppi.buildbin-libdir && mkdir wppi.buildbin-libdir && F:\biocbuild\bbs-3.22-bioc\R\bin\R.exe CMD INSTALL --build --library=wppi.buildbin-libdir wppi_1.17.0.tar.gz StartedAt: 2025-08-15 11:35:56 -0400 (Fri, 15 Aug 2025) EndedAt: 2025-08-15 11:36:26 -0400 (Fri, 15 Aug 2025) EllapsedTime: 29.9 seconds RetCode: 0 Status: OK PackageFile: wppi_1.17.0.zip PackageFileSize: 304.4 KiB