Package: wppi Version: 1.17.0 Command: /Library/Frameworks/R.framework/Resources/bin/R CMD build --keep-empty-dirs --no-resave-data wppi StartedAt: 2025-09-21 18:03:50 -0400 (Sun, 21 Sep 2025) EndedAt: 2025-09-21 18:05:16 -0400 (Sun, 21 Sep 2025) EllapsedTime: 85.3 seconds RetCode: 0 Status: OK PackageFile: wppi_1.17.0.tar.gz PackageFileSize: 647.2 KiB