Package: wpm Version: 1.19.0 Command: /Library/Frameworks/R.framework/Resources/bin/R CMD INSTALL wpm StartedAt: 2025-10-19 15:21:49 -0400 (Sun, 19 Oct 2025) EndedAt: 2025-10-19 15:21:56 -0400 (Sun, 19 Oct 2025) EllapsedTime: 6.4 seconds RetCode: 0 Status: OK