Package: wpm Version: 1.19.0 Command: /Library/Frameworks/R.framework/Resources/bin/R CMD build --keep-empty-dirs --no-resave-data wpm StartedAt: 2025-10-19 20:03:09 -0400 (Sun, 19 Oct 2025) EndedAt: 2025-10-19 20:03:44 -0400 (Sun, 19 Oct 2025) EllapsedTime: 34.4 seconds RetCode: 0 Status: OK PackageFile: wpm_1.19.0.tar.gz PackageFileSize: 2.414 MiB