Package: wpm Version: 1.19.0 Command: rm -rf wpm.buildbin-libdir && mkdir wpm.buildbin-libdir && /Users/biocbuild/BBS/utils/build-universal.sh wpm_1.19.0.tar.gz /Library/Frameworks/R.framework/Resources/bin/R wpm.buildbin-libdir StartedAt: 2025-10-20 03:40:28 -0400 (Mon, 20 Oct 2025) EndedAt: 2025-10-20 03:40:36 -0400 (Mon, 20 Oct 2025) EllapsedTime: 8.1 seconds RetCode: 0 Status: OK PackageFile: wpm_1.19.0.tgz PackageFileSize: 1.928 MiB