Package: widgetTools Version: 1.88.0 Command: /home/biocbuild/R/R/bin/R CMD build --keep-empty-dirs --no-resave-data widgetTools StartedAt: 2025-11-14 06:20:47 -0000 (Fri, 14 Nov 2025) EndedAt: 2025-11-14 06:20:56 -0000 (Fri, 14 Nov 2025) EllapsedTime: 9.0 seconds RetCode: 0 Status: OK PackageFile: widgetTools_1.88.0.tar.gz PackageFileSize: 223 KiB