Package: weitrix Version: 1.22.0 Command: /home/biocbuild/bbs-3.22-bioc/R/bin/R CMD INSTALL weitrix StartedAt: 2025-11-13 15:55:49 -0500 (Thu, 13 Nov 2025) EndedAt: 2025-11-13 15:56:20 -0500 (Thu, 13 Nov 2025) EllapsedTime: 30.9 seconds RetCode: 0 Status: OK