Package: weitrix Version: 1.22.0 Command: /Library/Frameworks/R.framework/Resources/bin/R CMD build --keep-empty-dirs --no-resave-data weitrix StartedAt: 2025-11-03 19:14:48 -0500 (Mon, 03 Nov 2025) EndedAt: 2025-11-03 19:22:34 -0500 (Mon, 03 Nov 2025) EllapsedTime: 466.0 seconds RetCode: 0 Status: OK PackageFile: weitrix_1.22.0.tar.gz PackageFileSize: 8.967 MiB