Package: weitrix Version: 1.22.0 Command: rm -rf weitrix.buildbin-libdir && mkdir weitrix.buildbin-libdir && /Users/biocbuild/BBS/utils/build-universal.sh weitrix_1.22.0.tar.gz /Library/Frameworks/R.framework/Resources/bin/R weitrix.buildbin-libdir StartedAt: 2025-11-04 02:10:38 -0500 (Tue, 04 Nov 2025) EndedAt: 2025-11-04 02:11:22 -0500 (Tue, 04 Nov 2025) EllapsedTime: 43.7 seconds RetCode: 0 Status: OK PackageFile: weitrix_1.22.0.tgz PackageFileSize: 9.25 MiB