Package: weitrix Version: 1.22.0 Command: /Library/Frameworks/R.framework/Resources/bin/R CMD build --keep-empty-dirs --no-resave-data weitrix StartedAt: 2025-11-10 18:09:19 -0500 (Mon, 10 Nov 2025) EndedAt: 2025-11-10 18:12:41 -0500 (Mon, 10 Nov 2025) EllapsedTime: 201.7 seconds RetCode: 0 Status: OK PackageFile: weitrix_1.22.0.tar.gz PackageFileSize: 8.971 MiB