Package: weitrix Version: 1.22.0 Command: rm -rf weitrix.buildbin-libdir && mkdir weitrix.buildbin-libdir && /Users/biocbuild/BBS/utils/build-universal.sh weitrix_1.22.0.tar.gz /Library/Frameworks/R.framework/Resources/bin/R weitrix.buildbin-libdir StartedAt: 2025-11-10 23:41:05 -0500 (Mon, 10 Nov 2025) EndedAt: 2025-11-10 23:41:18 -0500 (Mon, 10 Nov 2025) EllapsedTime: 13.3 seconds RetCode: 0 Status: OK PackageFile: weitrix_1.22.0.tgz PackageFileSize: 9.255 MiB