Package: webbioc Version: 1.81.0 Command: /home/biocbuild/bbs-3.22-bioc/R/bin/R CMD check --install=check:webbioc.install-out.txt --library=/home/biocbuild/bbs-3.22-bioc/R/site-library --timings webbioc_1.81.0.tar.gz StartedAt: 2025-10-20 06:11:59 -0400 (Mon, 20 Oct 2025) EndedAt: 2025-10-20 06:13:36 -0400 (Mon, 20 Oct 2025) EllapsedTime: 96.1 seconds RetCode: 0 Status: OK CheckDir: webbioc.Rcheck Warnings: 0