Package: webbioc Version: 1.81.0 Command: /home/biocbuild/bbs-3.22-bioc/R/bin/R CMD build --keep-empty-dirs --no-resave-data --md5 webbioc StartedAt: 2025-10-20 20:41:16 -0400 (Mon, 20 Oct 2025) EndedAt: 2025-10-20 20:41:41 -0400 (Mon, 20 Oct 2025) EllapsedTime: 25.0 seconds RetCode: 0 Status: OK PackageFile: webbioc_1.81.0.tar.gz PackageFileSize: 311.8 KiB