Package: weaver Version: 1.75.0 Command: /home/biocbuild/R/R/bin/R CMD INSTALL weaver StartedAt: 2025-10-16 21:15:11 -0000 (Thu, 16 Oct 2025) EndedAt: 2025-10-16 21:16:30 -0000 (Thu, 16 Oct 2025) EllapsedTime: 78.9 seconds RetCode: 0 Status: OK