Package: weaver Version: 1.75.0 Command: /Library/Frameworks/R.framework/Resources/bin/R CMD INSTALL weaver StartedAt: 2025-10-19 15:10:35 -0400 (Sun, 19 Oct 2025) EndedAt: 2025-10-19 15:11:30 -0400 (Sun, 19 Oct 2025) EllapsedTime: 54.7 seconds RetCode: 0 Status: OK