Package: weaver Version: 1.75.0 Command: /Library/Frameworks/R.framework/Resources/bin/R CMD check --install=check:weaver.install-out.txt --library=/Library/Frameworks/R.framework/Resources/library --no-vignettes --timings weaver_1.75.0.tar.gz StartedAt: 2025-10-20 02:35:03 -0400 (Mon, 20 Oct 2025) EndedAt: 2025-10-20 02:35:30 -0400 (Mon, 20 Oct 2025) EllapsedTime: 26.5 seconds RetCode: 0 Status: WARNINGS CheckDir: weaver.Rcheck Warnings: 1