Package: weaver Version: 1.75.0 Command: rm -rf weaver.buildbin-libdir && mkdir weaver.buildbin-libdir && /Users/biocbuild/BBS/utils/build-universal.sh weaver_1.75.0.tar.gz /Library/Frameworks/R.framework/Resources/bin/R weaver.buildbin-libdir StartedAt: 2025-10-20 03:40:21 -0400 (Mon, 20 Oct 2025) EndedAt: 2025-10-20 03:40:26 -0400 (Mon, 20 Oct 2025) EllapsedTime: 4.6 seconds RetCode: 0 Status: OK PackageFile: weaver_1.75.0.tgz PackageFileSize: 271.9 KiB