Package: waddR Version: 1.24.0 Command: /home/biocbuild/R/R/bin/R CMD INSTALL waddR StartedAt: 2025-11-13 21:29:25 -0000 (Thu, 13 Nov 2025) EndedAt: 2025-11-13 21:30:28 -0000 (Thu, 13 Nov 2025) EllapsedTime: 63.2 seconds RetCode: 0 Status: OK