Package: waddR Version: 1.24.0 Command: /home/biocbuild/R/R/bin/R CMD check --install=check:waddR.install-out.txt --library=/home/biocbuild/R/R/site-library --no-vignettes --timings waddR_1.24.0.tar.gz StartedAt: 2025-11-14 16:17:23 -0000 (Fri, 14 Nov 2025) EndedAt: 2025-11-14 16:33:17 -0000 (Fri, 14 Nov 2025) EllapsedTime: 954.7 seconds RetCode: 0 Status: OK CheckDir: waddR.Rcheck Warnings: 0