Package: waddR Version: 1.24.0 Command: /home/biocbuild/R/R/bin/R CMD build --keep-empty-dirs --no-resave-data waddR StartedAt: 2025-11-14 06:19:42 -0000 (Fri, 14 Nov 2025) EndedAt: 2025-11-14 06:22:02 -0000 (Fri, 14 Nov 2025) EllapsedTime: 140.1 seconds RetCode: 0 Status: OK PackageFile: waddR_1.24.0.tar.gz PackageFileSize: 157.4 KiB