Package: vtpnet Version: 0.49.0 Command: F:\biocbuild\bbs-3.22-bioc\R\bin\R.exe CMD INSTALL vtpnet StartedAt: 2025-08-14 16:40:20 -0400 (Thu, 14 Aug 2025) EndedAt: 2025-08-14 16:41:15 -0400 (Thu, 14 Aug 2025) EllapsedTime: 55.2 seconds RetCode: 0 Status: OK