Package: vtpnet Version: 0.49.0 Command: chmod a+r vtpnet -R && F:\biocbuild\bbs-3.22-bioc\R\bin\R.exe CMD build --keep-empty-dirs --no-resave-data vtpnet StartedAt: 2025-08-14 23:58:42 -0400 (Thu, 14 Aug 2025) EndedAt: 2025-08-15 00:00:36 -0400 (Fri, 15 Aug 2025) EllapsedTime: 114.6 seconds RetCode: 0 Status: OK PackageFile: vtpnet_0.49.0.tar.gz PackageFileSize: 20.12 MiB