Package: vtpnet Version: 0.49.0 Command: /Library/Frameworks/R.framework/Resources/bin/R CMD INSTALL vtpnet StartedAt: 2025-10-19 15:40:21 -0400 (Sun, 19 Oct 2025) EndedAt: 2025-10-19 15:41:27 -0400 (Sun, 19 Oct 2025) EllapsedTime: 66.1 seconds RetCode: 0 Status: OK