Package: vtpnet Version: 0.49.0 Command: /Library/Frameworks/R.framework/Resources/bin/R CMD check --install=check:vtpnet.install-out.txt --library=/Library/Frameworks/R.framework/Resources/library --no-vignettes --timings vtpnet_0.49.0.tar.gz StartedAt: 2025-10-20 02:34:21 -0400 (Mon, 20 Oct 2025) EndedAt: 2025-10-20 02:40:10 -0400 (Mon, 20 Oct 2025) EllapsedTime: 348.9 seconds RetCode: 0 Status: OK CheckDir: vtpnet.Rcheck Warnings: 0