Package: vtpnet Version: 0.49.0 Command: /Library/Frameworks/R.framework/Resources/bin/R CMD check --install=check:vtpnet.install-out.txt --library=/Library/Frameworks/R.framework/Resources/library --no-vignettes --timings vtpnet_0.49.0.tar.gz StartedAt: 2025-10-19 22:39:38 -0400 (Sun, 19 Oct 2025) EndedAt: 2025-10-19 22:41:48 -0400 (Sun, 19 Oct 2025) EllapsedTime: 129.5 seconds RetCode: 0 Status: OK CheckDir: vtpnet.Rcheck Warnings: 0