Package: vsn Version: 3.77.0 Command: F:\biocbuild\bbs-3.22-bioc\R\bin\R.exe CMD check --no-multiarch --install=check:vsn.install-out.txt --library=F:\biocbuild\bbs-3.22-bioc\R\library --no-vignettes --timings vsn_3.77.0.tar.gz StartedAt: 2025-08-15 09:10:51 -0400 (Fri, 15 Aug 2025) EndedAt: 2025-08-15 09:12:26 -0400 (Fri, 15 Aug 2025) EllapsedTime: 94.7 seconds RetCode: 0 Status: OK CheckDir: vsn.Rcheck Warnings: 0