Package: vsn Version: 3.77.0 Command: /Library/Frameworks/R.framework/Resources/bin/R CMD INSTALL vsn StartedAt: 2025-10-05 15:15:07 -0400 (Sun, 05 Oct 2025) EndedAt: 2025-10-05 15:15:34 -0400 (Sun, 05 Oct 2025) EllapsedTime: 27.0 seconds RetCode: 0 Status: OK