Package: vsn Version: 3.78.0 Command: rm -rf vsn.buildbin-libdir && mkdir vsn.buildbin-libdir && /Users/biocbuild/BBS/utils/build-universal.sh vsn_3.78.0.tar.gz /Library/Frameworks/R.framework/Resources/bin/R vsn.buildbin-libdir StartedAt: 2025-11-02 23:25:53 -0500 (Sun, 02 Nov 2025) EndedAt: 2025-11-02 23:25:58 -0500 (Sun, 02 Nov 2025) EllapsedTime: 5.2 seconds RetCode: 0 Status: OK PackageFile: vsn_3.78.0.tgz PackageFileSize: 2.512 MiB