Package: vmrseq Version: 1.1.2 Command: /home/biocbuild/R/R/bin/R CMD build --keep-empty-dirs --no-resave-data vmrseq StartedAt: 2025-10-21 04:01:47 -0000 (Tue, 21 Oct 2025) EndedAt: 2025-10-21 04:03:35 -0000 (Tue, 21 Oct 2025) EllapsedTime: 108.0 seconds RetCode: 0 Status: OK PackageFile: vmrseq_1.1.2.tar.gz PackageFileSize: 2.983 MiB