Package: vissE Version: 1.17.0 Command: F:\biocbuild\bbs-3.22-bioc\R\bin\R.exe CMD check --no-multiarch --install=check:vissE.install-out.txt --library=F:\biocbuild\bbs-3.22-bioc\R\library --no-vignettes --timings vissE_1.17.0.tar.gz StartedAt: 2025-08-15 09:09:43 -0400 (Fri, 15 Aug 2025) EndedAt: 2025-08-15 09:12:25 -0400 (Fri, 15 Aug 2025) EllapsedTime: 162.1 seconds RetCode: 0 Status: OK CheckDir: vissE.Rcheck Warnings: 0