Package: vissE Version: 1.18.0 Command: /Library/Frameworks/R.framework/Resources/bin/R CMD INSTALL vissE StartedAt: 2025-11-02 15:41:02 -0500 (Sun, 02 Nov 2025) EndedAt: 2025-11-02 15:41:11 -0500 (Sun, 02 Nov 2025) EllapsedTime: 9.4 seconds RetCode: 0 Status: OK