Package: vissE Version: 1.18.0 Command: /Library/Frameworks/R.framework/Resources/bin/R CMD check --install=check:vissE.install-out.txt --library=/Library/Frameworks/R.framework/Resources/library --no-vignettes --timings vissE_1.18.0.tar.gz StartedAt: 2025-11-01 00:59:12 -0400 (Sat, 01 Nov 2025) EndedAt: 2025-11-01 01:01:29 -0400 (Sat, 01 Nov 2025) EllapsedTime: 137.7 seconds RetCode: 0 Status: OK CheckDir: vissE.Rcheck Warnings: 0