Package: viper Version: 1.43.0 Command: /home/biocbuild/R/R/bin/R CMD check --install=check:viper.install-out.txt --library=/home/biocbuild/R/R/site-library --no-vignettes --timings viper_1.43.0.tar.gz StartedAt: 2025-10-17 14:52:09 -0000 (Fri, 17 Oct 2025) EndedAt: 2025-10-17 14:56:44 -0000 (Fri, 17 Oct 2025) EllapsedTime: 275.3 seconds RetCode: 0 Status: WARNINGS CheckDir: viper.Rcheck Warnings: 1