Package: viper Version: 1.43.0 Command: /home/biocbuild/R/R/bin/R CMD build --keep-empty-dirs --no-resave-data viper StartedAt: 2025-10-21 04:00:44 -0000 (Tue, 21 Oct 2025) EndedAt: 2025-10-21 04:05:03 -0000 (Tue, 21 Oct 2025) EllapsedTime: 259.1 seconds RetCode: 0 Status: OK PackageFile: viper_1.43.0.tar.gz PackageFileSize: 492.8 KiB