Package: viper Version: 1.43.0 Command: rm -rf viper.buildbin-libdir && mkdir viper.buildbin-libdir && F:\biocbuild\bbs-3.22-bioc\R\bin\R.exe CMD INSTALL --build --library=viper.buildbin-libdir viper_1.43.0.tar.gz StartedAt: 2025-08-15 11:34:49 -0400 (Fri, 15 Aug 2025) EndedAt: 2025-08-15 11:35:24 -0400 (Fri, 15 Aug 2025) EllapsedTime: 34.5 seconds RetCode: 0 Status: OK PackageFile: viper_1.43.0.zip PackageFileSize: 575.2 KiB