Package: viper Version: 1.43.0 Command: /home/biocbuild/bbs-3.22-bioc/R/bin/R CMD INSTALL viper StartedAt: 2025-10-21 15:15:51 -0400 (Tue, 21 Oct 2025) EndedAt: 2025-10-21 15:16:04 -0400 (Tue, 21 Oct 2025) EllapsedTime: 13.2 seconds RetCode: 0 Status: OK