Package: viper Version: 1.44.0 Command: /Library/Frameworks/R.framework/Resources/bin/R CMD INSTALL viper StartedAt: 2025-10-31 15:23:57 -0400 (Fri, 31 Oct 2025) EndedAt: 2025-10-31 15:24:12 -0400 (Fri, 31 Oct 2025) EllapsedTime: 15.8 seconds RetCode: 0 Status: OK