Package: viper Version: 1.44.0 Command: /Library/Frameworks/R.framework/Resources/bin/R CMD build --keep-empty-dirs --no-resave-data viper StartedAt: 2025-11-02 19:14:42 -0500 (Sun, 02 Nov 2025) EndedAt: 2025-11-02 19:19:27 -0500 (Sun, 02 Nov 2025) EllapsedTime: 284.4 seconds RetCode: 0 Status: OK PackageFile: viper_1.44.0.tar.gz PackageFileSize: 502.5 KiB