Package: veloviz Version: 1.15.0 Command: F:\biocbuild\bbs-3.22-bioc\R\bin\R.exe CMD check --no-multiarch --install=check:veloviz.install-out.txt --library=F:\biocbuild\bbs-3.22-bioc\R\library --no-vignettes --timings veloviz_1.15.0.tar.gz StartedAt: 2025-08-15 09:07:02 -0400 (Fri, 15 Aug 2025) EndedAt: 2025-08-15 09:08:42 -0400 (Fri, 15 Aug 2025) EllapsedTime: 100.1 seconds RetCode: 0 Status: OK CheckDir: veloviz.Rcheck Warnings: 0