Package: velociraptor Version: 1.19.1 Command: rm -rf velociraptor.buildbin-libdir && mkdir velociraptor.buildbin-libdir && F:\biocbuild\bbs-3.22-bioc\R\bin\R.exe CMD INSTALL --build --library=velociraptor.buildbin-libdir velociraptor_1.19.1.tar.gz StartedAt: 2025-08-15 11:34:33 -0400 (Fri, 15 Aug 2025) EndedAt: 2025-08-15 11:35:06 -0400 (Fri, 15 Aug 2025) EllapsedTime: 33.7 seconds RetCode: 0 Status: OK PackageFile: velociraptor_1.19.1.zip PackageFileSize: 619.1 KiB