Package: velociraptor Version: 1.20.0 Command: /Library/Frameworks/R.framework/Resources/bin/R CMD INSTALL velociraptor StartedAt: 2025-11-17 18:44:59 -0500 (Mon, 17 Nov 2025) EndedAt: 2025-11-17 18:45:44 -0500 (Mon, 17 Nov 2025) EllapsedTime: 45.5 seconds RetCode: 0 Status: OK