Package: velociraptor Version: 1.20.0 Command: /Library/Frameworks/R.framework/Resources/bin/R CMD build --keep-empty-dirs --no-resave-data velociraptor StartedAt: 2025-11-21 00:44:06 -0500 (Fri, 21 Nov 2025) EndedAt: 2025-11-21 00:49:35 -0500 (Fri, 21 Nov 2025) EllapsedTime: 328.6 seconds RetCode: 1 Status: ERROR PackageFile: None PackageFileSize: NA