Package: velociraptor Version: 1.19.1 Command: /Library/Frameworks/R.framework/Resources/bin/R CMD INSTALL velociraptor StartedAt: 2025-10-16 16:14:47 -0400 (Thu, 16 Oct 2025) EndedAt: 2025-10-16 16:15:17 -0400 (Thu, 16 Oct 2025) EllapsedTime: 29.5 seconds RetCode: 0 Status: OK