Package: velociraptor Version: 1.19.1 Command: /Library/Frameworks/R.framework/Resources/bin/R CMD check --install=check:velociraptor.install-out.txt --library=/Library/Frameworks/R.framework/Resources/library --no-vignettes --timings velociraptor_1.19.1.tar.gz StartedAt: 2025-10-21 02:33:36 -0400 (Tue, 21 Oct 2025) EndedAt: 2025-10-21 02:38:40 -0400 (Tue, 21 Oct 2025) EllapsedTime: 304.0 seconds RetCode: 0 Status: OK CheckDir: velociraptor.Rcheck Warnings: 0