Package: velociraptor Version: 1.19.1 Command: /Library/Frameworks/R.framework/Resources/bin/R CMD build --keep-empty-dirs --no-resave-data velociraptor StartedAt: 2025-10-16 20:19:08 -0400 (Thu, 16 Oct 2025) EndedAt: 2025-10-16 20:21:22 -0400 (Thu, 16 Oct 2025) EllapsedTime: 134.1 seconds RetCode: 0 Status: OK PackageFile: velociraptor_1.19.1.tar.gz PackageFileSize: 827.9 KiB