Package: velociraptor Version: 1.20.0 Command: /Library/Frameworks/R.framework/Resources/bin/R CMD build --keep-empty-dirs --no-resave-data velociraptor StartedAt: 2025-11-18 02:10:31 -0500 (Tue, 18 Nov 2025) EndedAt: 2025-11-18 02:12:42 -0500 (Tue, 18 Nov 2025) EllapsedTime: 131.2 seconds RetCode: 1 Status: ERROR PackageFile: None PackageFileSize: NA